BEGIN:VCALENDAR
VERSION:2.0
PRODID:-//ChamberMaster//Event Calendar 2.0//EN
METHOD:PUBLISH
X-PUBLISHED-TTL:P1H
REFRESH-INTERVAL:P1H
CALSCALE:GREGORIAN
BEGIN:VTIMEZONE
TZID:America/Los_Angeles
BEGIN:DAYLIGHT
RRULE:FREQ=YEARLY;BYMONTH=3;BYDAY=2SU
DTSTART:20070101T000000
TZOFFSETFROM:-0800
TZOFFSETTO:-0700
TZNAME:Pacific Daylight Time
END:DAYLIGHT
BEGIN:STANDARD
RRULE:FREQ=YEARLY;BYMONTH=11;BYDAY=1SU
DTSTART:20070101T000000
TZOFFSETFROM:-0700
TZOFFSETTO:-0800
TZNAME:Pacific Standard Time
END:STANDARD
END:VTIMEZONE
BEGIN:VEVENT
DTSTART;VALUE=DATE:20260429
DTEND;VALUE=DATE:20260430
TRANSP:TRANSPARENT
X-MICROSOFT-CDO-ALLDAYEVENT:TRUE
SUMMARY:CFCA 2026 Day at the Capitol *Virtual Training
DESCRIPTION:CFCA Members- To get your registration discount\, make sure you are logged in to the Info Hub when you register. If you are a CFCA member and do not know your Info Hub login\, please contact CFCA Business Development and Member Relations Manager\, Mikey Muscatello at mikey@cfca.energy
X-ALT-DESC;FMTTYPE=text/html:<!DOCTYPE html><html><head><title></title></head><body aria-disabled="false"><p><strong fr-original-style="" style="font-weight: 700\;"><span style="color: rgb(243\, 121\, 52)\;">CFCA Members- To get your registration discount\, make sure you are logged in to the Info Hub when you register.&nbsp\;</span></strong></p><p><strong fr-original-style="" style="font-weight: 700\;">If you are a CFCA member and do not know your Info Hub login\, please contact CFCA Business Development and Member Relations Manager\, Mikey Muscatello at <a fr-original-style="" href="mailto:mikey@cfca.energy" style="user-select: auto\;">mikey@cfca.energy</a>&nbsp\;</strong></p><p><br></p></body></html>
LOCATION:Sacramento
UID:e.2326.1442616
SEQUENCE:3
DTSTAMP:20260420T191259Z
URL:https://members.cfca.energy/event-calendar/Details/cfca-2026-day-at-the-capitol-virtual-training-1708657?sourceTypeId=Hub
END:VEVENT
END:VCALENDAR
